BEGIN:VCALENDAR
VERSION:2.0
PRODID:-//Atlanta - ECPv6.8.3//NONSGML v1.0//EN
CALSCALE:GREGORIAN
METHOD:PUBLISH
X-ORIGINAL-URL:https://www.esuus.org/atlanta
X-WR-CALDESC:Events for Atlanta
REFRESH-INTERVAL;VALUE=DURATION:PT1H
X-Robots-Tag:noindex
X-PUBLISHED-TTL:PT1H
BEGIN:VTIMEZONE
TZID:UTC
BEGIN:STANDARD
TZOFFSETFROM:+0000
TZOFFSETTO:+0000
TZNAME:UTC
DTSTART:20250101T000000
END:STANDARD
END:VTIMEZONE
BEGIN:VEVENT
DTSTART;TZID=UTC:20251202T110000
DTEND;TZID=UTC:20251202T130000
DTSTAMP:20260423T165047
CREATED:20251027T181823Z
LAST-MODIFIED:20251110T195033Z
UID:1304-1764673200-1764680400@www.esuus.org
SUMMARY:Spelman College: A Taste of Christmas
DESCRIPTION:A Taste of Christmas is a one-hour sampling of Spelman favorites from the annual Spelman-Morehouse Christmas Carol Concert presented by the Spelman College Glee Club.  This is a great opportunity for those who are unable to attend our evening performances or those who just want a sneak peek!  \n\n\n\nCarpool\, details forthcoming.
URL:https://www.esuus.org/atlanta/event/spelman-college-a-taste-of-christmas/
ATTACH;FMTTYPE=image/jpeg:https://www.esuus.org/atlanta/wp-content/uploads/sites/36/2025/10/Spelman-Christmas-Concert.jpg
END:VEVENT
BEGIN:VEVENT
DTSTART;TZID=UTC:20251209T160000
DTEND;TZID=UTC:20251209T180000
DTSTAMP:20260423T165047
CREATED:20251110T201046Z
LAST-MODIFIED:20251110T204951Z
UID:1308-1765296000-1765303200@www.esuus.org
SUMMARY:Annual Branch Holiday Program
DESCRIPTION:Gould RoomCathedral of St. Philip2744 Peachtree Road NWAtlanta\, GA 30305 \n\n\n\n \n\n\n\nJoin us as we celebrate our 2025 Tlab Scholars and the Christmas season. Holiday reception to follow.
URL:https://www.esuus.org/atlanta/event/annual-branch-holiday-program/
LOCATION:Cathedral of St. Philip\, 2744 Peachtree Rd. NW\, Atlanta\, GA 30305\, 2744 Peachtree Rd.\, NW\, Atlanta\, Georgia\, 30305
ATTACH;FMTTYPE=image/jpeg:https://www.esuus.org/atlanta/wp-content/uploads/sites/36/2025/11/christmas-esu-atlanta.jpg
END:VEVENT
END:VCALENDAR