BEGIN:VCALENDAR
VERSION:2.0
PRODID:-//ESU - ECPv6.8.3//NONSGML v1.0//EN
CALSCALE:GREGORIAN
METHOD:PUBLISH
X-WR-CALNAME:ESU
X-ORIGINAL-URL:https://www.esuus.org
X-WR-CALDESC:Events for ESU
REFRESH-INTERVAL;VALUE=DURATION:PT1H
X-Robots-Tag:noindex
X-PUBLISHED-TTL:PT1H
BEGIN:VTIMEZONE
TZID:UTC
BEGIN:STANDARD
TZOFFSETFROM:+0000
TZOFFSETTO:+0000
TZNAME:UTC
DTSTART:20250101T000000
END:STANDARD
END:VTIMEZONE
BEGIN:VEVENT
DTSTART;TZID=UTC:20250706T000000
DTEND;TZID=UTC:20250714T235959
DTSTAMP:20260421T153226
CREATED:20241028T184131Z
LAST-MODIFIED:20250207T160524Z
UID:4393-1751760000-1752537599@www.esuus.org
SUMMARY:ESU 2025 Patron Tour: Nelson on Shore and at Sea: A Life of the British Admiral
DESCRIPTION:The English-Speaking Union In Partnership with Sea Cloud Cruises Presents 2025 National Patron Tour Nelson on Shore and at Sea: A Life of the British Admiral With Author and Lecturer Flora FraserJuly 6-14\, 2025Naples to MaltaSet sail on an extraordinary journey through history aboard the magnificent Sea Cloud Spirit\, retracing the footsteps of one of Britain’s greatest naval heroes\, Admiral Horatio Nelson. This exclusive voyage\, co-hosted by the English-Speaking Union and Sea Cloud Cruises\, offers a unique blend of luxury\, adventure\, and intellectual stimulation.By day\, explore picturesque ports and historic sites central to Nelson’s career and private life. By night\, dine under the stars and engage in stimulating conversation with fellow history and adventure enthusiasts. Tour Highlights•Sail from Naples to Malta on board Sea Cloud Spirit\, ranked among the best luxury passenger ships in the world. •This three-mast windjammer’s 28 sails are hoisted by hand for authentic sailing experience.• Enjoy lectures by renowned biographer Flora Fraser• Visit key locations in Nelson’s Mediterranean campaigns• Visit the ports of Naples\, Capri\, Trapani\, Palermo\, Naxos\, Syracuse\, and Valletta\, Malta• Experience the thrill of sailing on a tall ship in Nelson’s wake• Indulge in luxurious accommodations and gourmet cuisineAbout ESU Patron ToursThe ESU National Patron Tours enhance our Patrons’ engagement with the ESU community through bespoke experiences of cultural enrichment\, educational exploration\, and unforgettable adventures. \n\n\n\nFor more information about the tour and how to sign up please contact Rossana Ivanova at rivanova@esuus.org\, (862) 224-4244. \n\n\n\n\n\n\n\n\n\n\n            \n            \n                \n                                            Documents and Forms                                    \n                \n                    \n                                                    Participant Agreement \nRegistration Form \n                                            \n                    \n                                            \n                \n            \n        \n    \n\n\n\n\n\n\n\n\n\n\n\n\nitaly-tripDownload
URL:https://www.esuus.org/event/2025-esu-patron-tour/
CATEGORIES:Homepage Featured,National
ATTACH;FMTTYPE=image/jpeg:https://www.esuus.org/wp-content/uploads/2024/10/seacloud-spirit.jpg
END:VEVENT
END:VCALENDAR