BEGIN:VCALENDAR
VERSION:2.0
PRODID:-//ESU - ECPv6.8.3//NONSGML v1.0//EN
CALSCALE:GREGORIAN
METHOD:PUBLISH
X-ORIGINAL-URL:https://www.esuus.org
X-WR-CALDESC:Events for ESU
REFRESH-INTERVAL;VALUE=DURATION:PT1H
X-Robots-Tag:noindex
X-PUBLISHED-TTL:PT1H
BEGIN:VTIMEZONE
TZID:America/New_York
BEGIN:DAYLIGHT
TZOFFSETFROM:-0500
TZOFFSETTO:-0400
TZNAME:EDT
DTSTART:20260308T070000
END:DAYLIGHT
BEGIN:STANDARD
TZOFFSETFROM:-0400
TZOFFSETTO:-0500
TZNAME:EST
DTSTART:20261101T060000
END:STANDARD
END:VTIMEZONE
BEGIN:VEVENT
DTSTART;TZID=America/New_York:20260513T170000
DTEND;TZID=America/New_York:20260513T180000
DTSTAMP:20260423T151158
CREATED:20260330T212159Z
LAST-MODIFIED:20260331T152316Z
UID:10841-1778691600-1778695200@www.esuus.org
SUMMARY:Happy Hour: Elizabeth I: in Her Own Words
DESCRIPTION:The New York City Branch of the English Speaking Union invites you to join us on  \nMay 13\, 2026 at 5PM EDT \nESU National Board Member Mary Coleman Way in Conversation with Tamara Meneghini on \nElizabeth I: in Her Own Words \nA critically acclaimed one-woman play\, by Carole Levin\, in collaboration with Tamara Meneghini and Sabin Epstein\, that combines Elizabeth I’s own letters and speeches\, the poetry of Shakespeare\, and music of the period to reveal a complex woman and ruler reflecting on her life and reign.  The play\, which has performed to sold out audiences at the 2024 Edinburgh Fringe Festival and elsewhere\, explores her inner thoughts\, fears\, loves\, and triumphs\, from the Spanish Armada to her relationships with her cousin\,Mary\, Queen of Scots\, her mother\, Ann Boleyn\, her sister\, Mary Tudor\, and both Robert Dudley and the Earl of Essex\, challenging perceptions of the “Virgin Queen.” The program will include excerpts from the performance. \nREGISTER HERE \nAbout Tammy Meneghini \n \nTammy Meneghini is the co-creator\, collaborating writer\, producer\, and plays the role of Elizabeth I in Elizabeth I: In Her Own Words\, a full-length solo play.  She has toured the play to various theatres and venues in the United States\, as well as being featured at the Edinburgh Fringe Festival 2024\, receiving 4 and 5-star reviews to sold out audiences.  She is an accomplished actor and director\, based in Colorado\, where she works frequently onstage and off.  Currently\, she is in the BETC (Boulder Ensemble Theatre Company) production of Mary Jane\, by Amy Herzog.  She is one of the founders of the Rocky Mountain Artists Safety Alliance and collaborated with regional theatre companies to create the Community Standards for Theatre for the Colorado Theatre Community. She is on the faculty at the University of Colorado Boulder\, where she teaches courses in acting\, movement\, voice\, musical theatre\, and the annual senior showcase of work in NYC.  Her work on the Elizabeth Project continues to grow and play to receptive audiences far and wide.   \nFor more information\, please visit: \nwww.tamarameneghini.com \n  \nAbout Mary Coleman Way \n \nMary Coleman Way has made a lasting impact on the theater community by dedicating more than a decade to leading Southwest Shakespeare Company\, where she is now Vice President of the Board of Directors. A multifaceted artist\, she is a member of the League of Professional Theater Women\, an NEA adjudicator\, and a frequent participant in classical theater auditions and ESU\, Kennedy Center\, and HSMT competitions. She is also a writer for film\, stage\, and television\, a director\, composer\, and administrator.  Mary’s commitment to the arts is furthered through her active involvement on the Boards of Arizona Citizens for the Arts\, Southwest Shakespeare Company\, and the National Board of the English Speaking Union. Beyond Shakespeare\, Mary\, alongside her husband\, founded Fit Via Vi\, a film production company that has expanded to include Broadway and TV\, earning several Tony and Oscar nominations. Most recently\, the company produced Redwood\, the highly acclaimed Broadway musical starring Idina Menzel\, Sugarcane\, a 2025 Academy Award nominee for Best Documentary\, and ARCO\, a 2026 Academy Award nominee for Best Animated Feature Film. \n  \nHappy Hour Cocktail \nQueen Elizabeth loved a good beer. So take out a Blue Moon with a refreshing slice of lemon or lime\, and enjoy! Cheers!
URL:https://www.esuus.org/event/happy-hour-elizabeth-i-in-her-own-words/
ATTACH;FMTTYPE=image/png:https://www.esuus.org/wp-content/uploads/2026/03/unnamed-1.png
END:VEVENT
BEGIN:VEVENT
DTSTART;TZID=America/New_York:20260603T170000
DTEND;TZID=America/New_York:20260603T180000
DTSTAMP:20260423T151158
CREATED:20260406T213247Z
LAST-MODIFIED:20260415T132907Z
UID:10892-1780506000-1780509600@www.esuus.org
SUMMARY:The History of Shakespearean Theatre in Hawaii
DESCRIPTION:Wednesday\, June 3\, 2026 • 5:00 PM ET\nSponsored by the ESU Hawaii and Seattle Branches\n \nDid you know that Edwin Booth\, brother of John Wilkes Booth (President Lincoln’s assassin)\, performed Shakespeare plays in the Kingdom of Hawaii in the 1850s? And he wasn’t alone. The Hawaiian Kingdom hosted many actors who came to the fabled islands to perform Shakespeare. Our guest speaker\, Professor Mark Lawhorn\, will speak on the history of Shakespearean theatre in Hawaii. He put together a detailed display on this topic for the exhibit of Shakespeare’s First Folio at Kapi’olani Community College in 2016.\n \nThis ESU Happy Hour is sponsored by the ESU Hawaii and Seattle Branches. ESU Happy Hour programs are online\, free\, and open to all members and the public. Registration is required. \nREGISTER HERE \nAbout Mark Lawhorn\, PhD\n\nMark Lawhorn is Professor of English at Kapi’olani Community College\, Honolulu\, Hawaii. In 2016\, he spearheaded the acquisition of a copy of the First Folio as part of the national tour of First Folios in all 50 States to commemorate the 400th anniversary of Shakespeare’s death. Kapi’olani Community College was the only community college selected to host a copy of the treasured collection during its tour. Lawhorn is the President of the ESU Hawaii Branch and is a member of ESU’s National Board of Directors.
URL:https://www.esuus.org/event/the-history-of-shakespearean-theatre-in-hawaii/
ATTACH;FMTTYPE=image/jpeg:https://www.esuus.org/wp-content/uploads/2026/04/Picture1-1.jpg
END:VEVENT
BEGIN:VEVENT
DTSTART;TZID=America/New_York:20260624T170000
DTEND;TZID=America/New_York:20260624T180000
DTSTAMP:20260423T151158
CREATED:20260422T200941Z
LAST-MODIFIED:20260423T180251Z
UID:10950-1782320400-1782324000@www.esuus.org
SUMMARY:Happy Hour: America: Made in Virginia
DESCRIPTION:Wednesday\, June 24\, 2026 • 5:00 PM ETSponsored by the ESU Richmond\, VA Branch With the Commander of the American Forces from Virginia\, four of the first five Presidents from Virginia\, the authors of the Declaration of Independence\, the Bill of Rights\, and the Constitution from Virginia\, an early Chief Justice of the Supreme Court from Virginia\, multiple signers of the Declaration of Independence from Virginia and\, indeed\, the very land on which Washington D.C. stands from Virginia\, it is safe to say that Virginia was indispensable in the creation of our country.  Ellen LeCompte\, President of the ESU Richmond VA Branch\, will share the people\, places\, and things that Virginia contributed to successfully establishing our democracy. This ESU Happy Hour is sponsored by the Richmond\, VA Branch. ESU Happy Hour programs are online\, free to attend\, and open to all members and the public. Registration is required to receive the webinar link.REGISTER HERE \n\n\n\n\n\n    \n        \n\n            \n            \n            \n                            \n                    About Ellen LeCompte\n \nEllen LeCompte is president of the ESU Richmond Branch\, a former Regional Chair\, and an ESU SSE alumna. She is a graduate of the College of William and Mary and is a proud Virginian and an acknowledged expert on the UK listed by Travel + Leisure magazine as one of their top Advisors in the United States. She has co-authored two books on the late Queen Elizabeth II’s historic relationship between Virginia and Great Britain. In 2025\, Ellen was honored by King Charles III to be made a Dame of the Order of St John\, one of Britain’s oldest chivalric orders dating back to the 12th century.\n  \nCocktail\nIt should be a Mint Julep served in a pewter Jefferson Cup—preferably made with Bourbon from George Washington’s distillery at Mount Vernon!\n \nIngredients\n8 mint leaves\n1/4-ounce simple syrup*\n2 ounces bourbon\nGarnish: mint sprig\nGarnish: Angostura bitters (optional)\nSteps\nIn a silver or pewter cup or rocks glass\, lightly muddle the mint leaves in the simple syrup.\nAdd the bourbon then pack the glass tightly with crushed ice.\nStir until the cup is frosted on the outside.\nTop with more crushed ice to form an ice dome and garnish with a mint sprig and a few drops of bitters (optional).\n*Simple Syrup Ingredients\n1/2 cup granulated sugar\n1/2 cup water\nPrepare Simple Syrup\nAdd the sugar and water to a small saucepan over medium heat.\nStir until sugar is dissolved.\nLet cool\, then pour into a glass jar and seal tightly with a lid.\nSimple syrup will keep\, refrigerated\, for about one month.
URL:https://www.esuus.org/event/happy-hour-america-made-in-virginia/
ATTACH;FMTTYPE=image/jpeg:https://www.esuus.org/wp-content/uploads/2026/04/Picture1-2.jpg
END:VEVENT
END:VCALENDAR